BEGIN:VCALENDAR
VERSION:2.0
PRODID:-//IBMT - ECPv5.1.5//NONSGML v1.0//EN
CALSCALE:GREGORIAN
METHOD:PUBLISH
X-WR-CALNAME:IBMT
X-ORIGINAL-URL:https://ibmt.lt
X-WR-CALDESC:Events for IBMT
BEGIN:VTIMEZONE
TZID:Europe/Helsinki
BEGIN:DAYLIGHT
TZOFFSETFROM:+0200
TZOFFSETTO:+0300
TZNAME:EEST
DTSTART:20200329T010000
END:DAYLIGHT
BEGIN:STANDARD
TZOFFSETFROM:+0300
TZOFFSETTO:+0200
TZNAME:EET
DTSTART:20201025T010000
END:STANDARD
END:VTIMEZONE
BEGIN:VEVENT
DTSTART;TZID=Europe/Helsinki:20200801T080000
DTEND;TZID=Europe/Helsinki:20200801T170000
DTSTAMP:20260419T124058
CREATED:20200801T130036Z
LAST-MODIFIED:20200801T130037Z
UID:197-1596268800-1596301200@ibmt.lt
SUMMARY:Renginys
DESCRIPTION:\n\n\nTai bandomasis renginys\, kol kas informacija apie renginius ruošiama \n\n\n\n\n\n\n\n\n\n\n
URL:https://ibmt.lt/event/renginys/
END:VEVENT
END:VCALENDAR